BEGIN:VCALENDAR
VERSION:2.0
PRODID:DPCALENDAR
CALSCALE:GREGORIAN
X-WR-TIMEZONE:America/Mexico_City
BEGIN:VEVENT
DTSTART;TZID=America/Mexico_City:20230607T100000
DTEND;TZID=America/Mexico_City:20230607T120000
UID:6850033B-2DC8-48E8-925E-72038BED4ADA
SUMMARY:Estigma hacia los padecimientos mentales
CREATED:20230503T002645Z
DTSTAMP:20230503T002645Z
URL:https://www.youtube.com/@conbioeticaMX
DESCRIPTION:Videoconferencia CONABIOETICA: Estigma hacia los padecimientos mentales: un desafío persistente en salud pública\NPerla E. Orozco VázquezComisión Estatal de Bioética, Nuevo León
X-ALT-DESC;FMTTYPE=text/html:<h4>Videoconferencia CONABIOETICA: Estigma hacia los padecimientos mentales: un desafío persistente en salud pública</h4><p>Perla E. Orozco Vázquez<br /><strong>Comisión Estatal de Bioética, Nuevo León</strong></p>
LAST-MODIFIED:20230503T021137Z
SEQUENCE:6292
LOCATION:México
GEO:49.83722040;20.95770421
X-LOCATION-DISPLAYNAME:Virtual
X-ACCESS:1
X-HITS:1
X-COLOR:2ed1c3
X-SHOW-END-TIME:1
END:VEVENT
BEGIN:VEVENT
DTSTART;TZID=America/Mexico_City:20230731T170000
DTEND;TZID=America/Mexico_City:20230731T183000
UID:7B401CDB-356F-4F17-AD67-96E392E9110B
SUMMARY:The moral obligation to develop gene editing to enhance humanity: ethical issues
CREATED:20230714T003857Z
DTSTAMP:20230714T003857Z
URL:https://www.youtube.com/@conbioeticaMX
DESCRIPTION:Videoconferencia CONABIOETICA: The moral obligation to develop gene editing to enhance humanity: ethical issues\NJulian Savalescu, Oxford Uehiro Centre for Practical EthicsCon los comentarios de Ma. de Jesús Medina ArellanoInstituto de Investigaciones Jurídicas, UNAM
X-ALT-DESC;FMTTYPE=text/html:<h4>Videoconferencia CONABIOETICA: The moral obligation to develop gene editing to enhance humanity: ethical issues</h4><p>Julian Savalescu, <strong>Oxford Uehiro Centre for Practical Ethics</strong><br /><br />Con los comentarios de Ma. de Jesús Medina Arellano<br /><strong>Instituto de Investigaciones Jurídicas, UNAM</strong></p>
LAST-MODIFIED:20230714T010901Z
SEQUENCE:1804
LOCATION:México
GEO:49.83722040;20.95770421
X-LOCATION-DISPLAYNAME:Virtual
X-ACCESS:1
X-HITS:0
X-COLOR:2ed1c3
X-SHOW-END-TIME:0
END:VEVENT
BEGIN:VEVENT
DTSTART;TZID=America/Mexico_City:20230803T120000
DTEND;TZID=America/Mexico_City:20230803T130000
UID:6DED2804-9236-4BD8-B028-0453586BCEEA
SUMMARY:La recomendación sobre la ética de la inteligencia artificial.
CREATED:20230714T010252Z
DTSTAMP:20230714T010252Z
URL:https://www.youtube.com/@conbioeticaMX
DESCRIPTION:Videoconferencia CONABIOETICA: La recomendación sobre la ética de la inteligencia artificial.\NDafna Feinholz-KlipUNESCO\NCon el comentario de Patricio Santillán DohertyCONABIOETICA
X-ALT-DESC;FMTTYPE=text/html:<h4>Videoconferencia CONABIOETICA: La recomendación sobre la ética de la inteligencia artificial.</h4><p>Dafna Feinholz-Klip<br /><strong>UNESCO</strong></p><p>Con el comentario de Patricio Santillán Doherty<br /><strong>CONABIOETICA</strong></p>
LAST-MODIFIED:20230714T010819Z
SEQUENCE:327
LOCATION:México
GEO:49.83722040;20.95770421
X-LOCATION-DISPLAYNAME:Virtual
X-ACCESS:1
X-HITS:0
X-COLOR:2ed1c3
X-SHOW-END-TIME:0
END:VEVENT
END:VCALENDAR